BEGIN:VCALENDAR
VERSION:2.0
PRODID:-//H2-WANDEL Modellregion Mittler Alb- Donau- Ostwürttemberg - ECPv6.15.20//NONSGML v1.0//EN
CALSCALE:GREGORIAN
METHOD:PUBLISH
X-WR-CALNAME:H2-WANDEL Modellregion Mittler Alb- Donau- Ostwürttemberg
X-ORIGINAL-URL:https://h2-wandel.de
X-WR-CALDESC:Veranstaltungen für H2-WANDEL Modellregion Mittler Alb- Donau- Ostwürttemberg
REFRESH-INTERVAL;VALUE=DURATION:PT1H
X-Robots-Tag:noindex
X-PUBLISHED-TTL:PT1H
BEGIN:VTIMEZONE
TZID:UTC
BEGIN:STANDARD
TZOFFSETFROM:+0000
TZOFFSETTO:+0000
TZNAME:UTC
DTSTART:20250101T000000
END:STANDARD
END:VTIMEZONE
BEGIN:VEVENT
DTSTART;TZID=UTC:20260416T100000
DTEND;TZID=UTC:20260416T120000
DTSTAMP:20260422T084438
CREATED:20260219T104444Z
LAST-MODIFIED:20260219T104744Z
UID:10482-1776333600-1776340800@h2-wandel.de
SUMMARY:Interner Termin: H2-Wandel-Vorstandsitzung
DESCRIPTION:Bei diesem Regeltermin treffen sich an wechselnden Orten innerhalb der H2-Wandel-Modellregion die Vorstandsmitglieder des Vereins\, um sich über den Stand der Projekte\, die Arbeit der Geschäftsstelle sowie über aktuelle Themen zu informieren.\nUnsere Vorstandsmitglieder sind auf der Website aufgelistet unter. Hier geht es zur entsprechenden Seite. \n 
URL:https://h2-wandel.de/veranstaltung/interner-termin-h2-wandel-vorstandsitzung/
END:VEVENT
BEGIN:VEVENT
DTSTART;TZID=UTC:20260416T180000
DTEND;TZID=UTC:20260416T193000
DTSTAMP:20260422T084438
CREATED:20260401T131911Z
LAST-MODIFIED:20260407T072055Z
UID:10752-1776362400-1776367800@h2-wandel.de
SUMMARY:Energiewende braucht Netze – aber wie belastbar sind sie?
DESCRIPTION:In der zweiten Veranstaltung der Online-Vortragsreihe „H2 Pioniere“ geht es um eine der zentralen Fragen der Transformation: unsere Stromnetze. Dr.-Ing. Dominik Schlipf (TransnetBW) zeigt\, welche Herausforderungen die Energiewende für das Übertragungsnetz mit sich bringt und welche Lösungen bereits heute gedacht werden. \nDie Reihe wird vom Zentrum für Allgemeine Wissenschaftliche Weiterbildung (ZAWiW) der Universität Ulm im Rahmen des Projekts H2-Wandel organisiert.  \nJetzt anmelden:https://www.uni-ulm.de/department/zawiw/veranstaltungen/h2pioniere/#c977764
URL:https://h2-wandel.de/veranstaltung/energiewende-braucht-netze-aber-wie-belastbar-sind-sie/
END:VEVENT
END:VCALENDAR